BEGIN:VCALENDAR
VERSION:2.0
PRODID:-//http://www.medi-sota.org/main///NONSGML kigkonsult.se iCalcreator 2.10.15//
METHOD:PUBLISH
BEGIN:VEVENT
UID:20260422T144041UTC-8946UwWCDo@http://www.medi-sota.org/main/
DTSTAMP:20260422T144041Z
DESCRIPTION: http://www.medi-sota.org/main/index.php/en/meetings-events/eve
 nt/234-nurse-leadership
DTSTART:20240501T180000Z
DTEND:20240501T203000Z
LOCATION:Virtual ()
SUMMARY:Nurse Leadership
URL:http://www.medi-sota.org/main/index.php/en/meetings-events/event/234-nu
 rse-leadership
END:VEVENT
END:VCALENDAR
