BEGIN:VCALENDAR
VERSION:2.0
PRODID:-//http://www.medi-sota.org/main///NONSGML kigkonsult.se iCalcreator 2.10.15//
METHOD:PUBLISH
BEGIN:VEVENT
UID:20260424T153845UTC-3900hWb7HH@http://www.medi-sota.org/main/
DTSTAMP:20260424T153845Z
DESCRIPTION: http://www.medi-sota.org/main/index.php/en/education-2/worksho
 p-calendar/event/259-long-term-care-assisted-living
DTSTART:20241107T153000Z
DTEND:20241107T180000Z
LOCATION:Virtual ()
SUMMARY:Long Term Care/Assisted Living
URL:http://www.medi-sota.org/main/index.php/en/education-2/workshop-calenda
 r/event/259-long-term-care-assisted-living
END:VEVENT
END:VCALENDAR
